BEGIN:VCALENDAR
VERSION:2.0
PRODID:-//kbudoucnosti.cz - ECPv6.15.17.1//NONSGML v1.0//EN
CALSCALE:GREGORIAN
METHOD:PUBLISH
X-ORIGINAL-URL:https://kbudoucnosti.cz
X-WR-CALDESC:Akce na kbudoucnosti.cz
REFRESH-INTERVAL;VALUE=DURATION:PT1H
X-Robots-Tag:noindex
X-PUBLISHED-TTL:PT1H
BEGIN:VTIMEZONE
TZID:UTC
BEGIN:STANDARD
TZOFFSETFROM:+0000
TZOFFSETTO:+0000
TZNAME:UTC
DTSTART:20250101T000000
END:STANDARD
END:VTIMEZONE
BEGIN:VEVENT
DTSTART;TZID=UTC:20260101T080000
DTEND;TZID=UTC:20260430T170000
DTSTAMP:20260417T095149
CREATED:20251007T092439Z
LAST-MODIFIED:20251007T092503Z
UID:7680-1767254400-1777568400@kbudoucnosti.cz
SUMMARY:České ručičky 2026 - elektro slaboproud
DESCRIPTION:České ručičky jsou největší přehlídkou řemesel a řemeslných oborů v České republice. Naším cílem je popularizace učňovského školství v očích mladých lidí\, jejich rodičů\, učitelů i široké veřejnosti. Věříme\, že řemeslo má svou budoucnost a že hraje a bude hrát významnou\, ba nezastupitelnou roli v životě každého z nás. Proto každý rok pečlivě vybíráme a na slavnostním galavečeru oceňujeme ty nejlepší mladé řemeslníky z celé České republiky. \nVíce info na ceskerucicky.eu.
URL:https://kbudoucnosti.cz/akce/ceske-rucicky-2026-elektro-slaboproud/
END:VEVENT
BEGIN:VEVENT
DTSTART;TZID=UTC:20260303T080000
DTEND;TZID=UTC:20260404T170000
DTSTAMP:20260417T095149
CREATED:20260303T084622Z
LAST-MODIFIED:20260303T084644Z
UID:8149-1772524800-1775322000@kbudoucnosti.cz
SUMMARY:Soutěž v programování
DESCRIPTION:Soutěž v programování je pořádána pro žáky základních a středních škol v kategoriích „Programování“\,\na „Programování mikrořadičů“.\nKategorie:\nProgramování – žáci – určená pro žáky ZŠ a žáky odpovídajících ročníků víceletých gymnázií\nProgramování – mládež – určená pro žáky SŠ do 19 let včetně\nProgramování mikrořadičů – určená pro žáky ZŠ a SŠ do 19 let včetně\nPozn:\nV kategorii „Programování” je možné pro řešení úloh používat jakýkoliv běžně používaný programovací\njazyk.\nV kategorii „Programování mikrořadičů” soutěžící během krajského i ústředního kola používají vlastní\nhardware a vývojové prostředí.“\nB. Termíny soutěžních kol:\nokresní kola únor – březen 2026\nkrajská kola 23. – 25. 4. 2026\nústřední kolo 5. – 7. 6. 2026\nC. Přihlášky a organizační pokyny:\nOkresní kolo\nOkresní kolo pořádají jednotlivé kraje dle svého uvážení. Zájemci o tuto soutěž se mohou do soutěže\npřihlásit sami (přes seznam krajských garantů – viz propozice)\, nebo prostřednictvím svého učitele\ninformatiky. Pokud se okresní kolo nepořádá\, přihlašují se přímo do krajského kola. Termín odevzdání\npřihlášek do krajského kola je do 4. 4. 2026.\nPřihláška obsahuje jméno a příjmení\, datum narození\, název a adresu školy\, třídu\, adresu bydliště\, emailovou adresu\, telefon (nejlépe mobil) a soutěžní kategorii.\nD. Krajské kolo:\nÚkoly a jejich hodnocení pro kategorii připravuje Ústřední porot
URL:https://kbudoucnosti.cz/akce/8149/
END:VEVENT
BEGIN:VEVENT
DTSTART;TZID=UTC:20260330T080000
DTEND;TZID=UTC:20260401T170000
DTSTAMP:20260417T095149
CREATED:20260303T081253Z
LAST-MODIFIED:20260303T081253Z
UID:8132-1774857600-1775062800@kbudoucnosti.cz
SUMMARY:AUTOOPRAVÁŘ JUNIOR 2026
DESCRIPTION:31. ročník soutěže Autoopravář Junior. \nKategorie: Automechanik\nAutotronik\nKarosář\nAutolakýrník\nEV technik \n  \n1. Soutěž se skládá z části teoretické\, poznávací a praktické. Obsahová náplň jednotlivých částí\nodpovídá platným rámcovým vzdělávacím programům.\n2. V teoretické části budou žáci prověřováni testem na PC nebo odbornou výukou (e-learning\nnebo přednáška nebo samostudium) spojenou s testem odborných znalostí\, popřípadě\npísemnou prací z teoretických znalostí zaměřených dle jednotlivých kategorií soutěže na: –\nkonstrukci motorových vozidel\, elektrotechniku\, elektroniku\, technologii oprav\nmotorových vozidel\, diagnostická zařízení\, řízení motorových vozidel\, –\nvýrobu karosérií a skříní vozidel\, technologii oprav karosérií\, technickou\ndokumentaci\, základy konstrukce motorových vozidel\, montáže a demontáže\njednotlivých skupin motorových vozidel\,\n–\nBOZP\, OOPP\, materiály používané v auto-lakýrnictví\, orientaci v technických listech\,\nobsluhu a zařízení využívaných v autolakovnách\, technologické postupy\nv průmyslovém i opravárenském lakování\, legislativu\, VOC\, složení nátěrových hmot\,\nnakládání s odpady z lakovny\, vady laků\, koloristiku\, speciální techniky a zkoušky\nnátěrových hmot.
URL:https://kbudoucnosti.cz/akce/autoopravar-junior-2026-2/
LOCATION:Servisní centrum ŠKODA AUTO a.s.\, Kosmonosy
END:VEVENT
BEGIN:VEVENT
DTSTART;TZID=UTC:20260401T080000
DTEND;TZID=UTC:20260430T170000
DTSTAMP:20260417T095149
CREATED:20260303T084145Z
LAST-MODIFIED:20260303T084145Z
UID:8146-1775030400-1777568400@kbudoucnosti.cz
SUMMARY:Eurorebus
DESCRIPTION:Celostátní vědomostní soutěž Eurorebus je týmová soutěž školních tříd 2. stupně základních škol a středních škol. Klade důraz na mezioborové souvislosti\, schopnost logického uvažování\, nadhledu a kritického myšlení při práci s informacemi. Obsahově je soutěž zařazena do vzdělávacích oblastí Geografie\, Člověk a společnost\, Člověk a příroda a tomu odpovídajících vzdělávacích oborů. V prvním pololetí školního roku probíhá kvalifikační internetová fáze soutěže na www.eurorebus.cz\, ve které jednotliví žáci vypracovávají online soutěžní úkoly a otázky se ziskem bodů za jejich správné zpracování ve prospěch svých školních tříd. Ve druhém pololetí probíhá vyřazovací prezenční fáze týmové soutěže školních tříd ve třech oddělených věkových kategoriích (ZŠ01\, ZŠ02\, SŠ). V ní na základě dosaženého počtu bodů v kvalifikační fázi soutěže nejúspěšnější školní třídy postupují do prezenčních Krajských kol\, ve kterých jsou reprezentovány tříčlennými žákovskými týmy. Z Krajských kol pak na základě úspěšnosti ve vědomostních týmových soutěžních testech v rámci jednotlivých věkových kategorií postupují do prezenčního Celostátního finále. Z něho pak vzejdou nejúspěšnější školní třídy v každé z oddělených věkových kategorií v daném soutěžním ročníku.
URL:https://kbudoucnosti.cz/akce/eurorebus/
ORGANIZER;CN="TERRA-KLUB%2C o.p.s.":MAILTO:terra@terra-klub.cz
END:VEVENT
BEGIN:VEVENT
DTSTART;TZID=UTC:20260401T080000
DTEND;TZID=UTC:20260531T170000
DTSTAMP:20260417T095149
CREATED:20251007T091330Z
LAST-MODIFIED:20251007T091330Z
UID:7668-1775030400-1780246800@kbudoucnosti.cz
SUMMARY:Mladý zahrádkář 2026
DESCRIPTION:Odbornou soutěž Mladý zahrádkář spolupořádá Stanice přírodovědců DDM hl. m. Prahy a Územní sdružení Českého zahrádkářského svazu hlavního města Prahy. Podrobné informace naleznete na webových stránkách soutěže. Soutěž tvoří část teoretická\, která proběhne formou testu\, a část praktická – určování rostlin (plevele\, stromy\, keře\, pokojové rostliny\, zelenina\, bylinky\, semena). Starší testové otázky z minulých ročníků lze nalézt na www.zahradkari.cz (pod ikonou ČZS – mladí zahrádkáři). Z každé školy se soutěže může zúčastnit maximálně 5 žáků v každé kategorii. Škola soutěžící vybírá sama. Pokud bude z jedné školy více zájemců\, škola uspořádá školní kolo. Krajské kolo této soutěže se každoročně koná na Stanici přírodovědců (Drtinova 1a\, Praha 5). Přihlásit se k účasti v soutěži Mladý zahrádkář je možné na e-mailu: hrdina@ddmpraha.cz. První tři účastníci z městského kola s nejvyšším počtem bodů v každé kategorii obdrží diplom a věcné ceny. Vítězové jednotlivých kategorií postupují do národního kola.
URL:https://kbudoucnosti.cz/akce/mlady-zahradkar-2026/
END:VEVENT
END:VCALENDAR