BEGIN:VCALENDAR
VERSION:2.0
PRODID:-//kbudoucnosti.cz - ECPv6.15.17.1//NONSGML v1.0//EN
CALSCALE:GREGORIAN
METHOD:PUBLISH
X-WR-CALNAME:kbudoucnosti.cz
X-ORIGINAL-URL:https://kbudoucnosti.cz
X-WR-CALDESC:Akce na kbudoucnosti.cz
REFRESH-INTERVAL;VALUE=DURATION:PT1H
X-Robots-Tag:noindex
X-PUBLISHED-TTL:PT1H
BEGIN:VTIMEZONE
TZID:UTC
BEGIN:STANDARD
TZOFFSETFROM:+0000
TZOFFSETTO:+0000
TZNAME:UTC
DTSTART:20250101T000000
END:STANDARD
END:VTIMEZONE
BEGIN:VEVENT
DTSTART;VALUE=DATE:20260101
DTEND;VALUE=DATE:20260401
DTSTAMP:20260420T212435
CREATED:20251006T104222Z
LAST-MODIFIED:20251006T104222Z
UID:7641-1767225600-1775001599@kbudoucnosti.cz
SUMMARY:Středoškolská odborná činnost 2026
DESCRIPTION:Harmonogram 48. ročníku SOČ\n\nŠkolní přehlídky SOČ: leden–březen 2026 (dle pokynů střední školy)\nOkresní přehlídky SOČ: březen–duben 2026\nKrajské přehlídky SOČ: duben–květen 2026\nCelostátní přehlídka SOČ: –
URL:https://kbudoucnosti.cz/akce/stredoskolska-odborna-cinnost-2026/
END:VEVENT
BEGIN:VEVENT
DTSTART;TZID=UTC:20260101T080000
DTEND;TZID=UTC:20260331T170000
DTSTAMP:20260420T212435
CREATED:20260303T084936Z
LAST-MODIFIED:20260303T084936Z
UID:8153-1767254400-1774976400@kbudoucnosti.cz
SUMMARY:Pohár vědy 2026
DESCRIPTION:Mezinárodní soutěž POHÁR VĚDY bude v roce 2026 realizována již po patnácté\, tentokrát s podtitulem Stroj času 2026. Soutěž nabízí žákům všech věkových kategorií týmové projektové aktivity v oblasti kreativní\, heuristické\, badatelské a experimentální. Úlohy jsou koncipovány na řešení teoretických i praktických problémů z různých oborů fyziky\, chemie\, matematiky\, techniky\, biologie a ekologie. Soutěž podporuje týmovou spolupráci a badatelství\, rozvoj ICT\, komunikačních a prezentačních kompetencí účastníků.
URL:https://kbudoucnosti.cz/akce/pohar-vedy-2026/
END:VEVENT
BEGIN:VEVENT
DTSTART;TZID=UTC:20260101T080000
DTEND;TZID=UTC:20260430T170000
DTSTAMP:20260420T212435
CREATED:20251007T092439Z
LAST-MODIFIED:20251007T092503Z
UID:7680-1767254400-1777568400@kbudoucnosti.cz
SUMMARY:České ručičky 2026 - elektro slaboproud
DESCRIPTION:České ručičky jsou největší přehlídkou řemesel a řemeslných oborů v České republice. Naším cílem je popularizace učňovského školství v očích mladých lidí\, jejich rodičů\, učitelů i široké veřejnosti. Věříme\, že řemeslo má svou budoucnost a že hraje a bude hrát významnou\, ba nezastupitelnou roli v životě každého z nás. Proto každý rok pečlivě vybíráme a na slavnostním galavečeru oceňujeme ty nejlepší mladé řemeslníky z celé České republiky. \nVíce info na ceskerucicky.eu.
URL:https://kbudoucnosti.cz/akce/ceske-rucicky-2026-elektro-slaboproud/
END:VEVENT
BEGIN:VEVENT
DTSTART;TZID=UTC:20260303T080000
DTEND;TZID=UTC:20260404T170000
DTSTAMP:20260420T212435
CREATED:20260303T084622Z
LAST-MODIFIED:20260303T084644Z
UID:8149-1772524800-1775322000@kbudoucnosti.cz
SUMMARY:Soutěž v programování
DESCRIPTION:Soutěž v programování je pořádána pro žáky základních a středních škol v kategoriích „Programování“\,\na „Programování mikrořadičů“.\nKategorie:\nProgramování – žáci – určená pro žáky ZŠ a žáky odpovídajících ročníků víceletých gymnázií\nProgramování – mládež – určená pro žáky SŠ do 19 let včetně\nProgramování mikrořadičů – určená pro žáky ZŠ a SŠ do 19 let včetně\nPozn:\nV kategorii „Programování” je možné pro řešení úloh používat jakýkoliv běžně používaný programovací\njazyk.\nV kategorii „Programování mikrořadičů” soutěžící během krajského i ústředního kola používají vlastní\nhardware a vývojové prostředí.“\nB. Termíny soutěžních kol:\nokresní kola únor – březen 2026\nkrajská kola 23. – 25. 4. 2026\nústřední kolo 5. – 7. 6. 2026\nC. Přihlášky a organizační pokyny:\nOkresní kolo\nOkresní kolo pořádají jednotlivé kraje dle svého uvážení. Zájemci o tuto soutěž se mohou do soutěže\npřihlásit sami (přes seznam krajských garantů – viz propozice)\, nebo prostřednictvím svého učitele\ninformatiky. Pokud se okresní kolo nepořádá\, přihlašují se přímo do krajského kola. Termín odevzdání\npřihlášek do krajského kola je do 4. 4. 2026.\nPřihláška obsahuje jméno a příjmení\, datum narození\, název a adresu školy\, třídu\, adresu bydliště\, emailovou adresu\, telefon (nejlépe mobil) a soutěžní kategorii.\nD. Krajské kolo:\nÚkoly a jejich hodnocení pro kategorii připravuje Ústřední porot
URL:https://kbudoucnosti.cz/akce/8149/
END:VEVENT
BEGIN:VEVENT
DTSTART;TZID=UTC:20260326T080000
DTEND;TZID=UTC:20260328T170000
DTSTAMP:20260420T212435
CREATED:20260323T074924Z
LAST-MODIFIED:20260323T080446Z
UID:8199-1774512000-1774717200@kbudoucnosti.cz
SUMMARY:CzechSkills 2026
DESCRIPTION:CzechSkills je národní značka zastřešující jednotlivé soutěže odborných dovedností žáků\, studentů a mládeže konaných v České republice. Jedná se o unikátní koncept\, který se odkazuje na tradici odborných dovednostních soutěží EuroSkills zavedených po druhé světové válce ve státech západní Evropy. \nZnačka CzechSkills je udělována Hospodářskou komorou ČR podle Pravidel CzechSkills. Hospodářská komora ČR byla touto rolí pověřena Ministerstvem školství\, mládeže a tělovýchovy v roce 2020 poté\, co se stala řádným členem WorldSkills Europe (pořadatel EuroSkills). Hospodářská komora ČR zajišťuje účast národního týmu na evropském mistrovství EuroSkills. \nSoutěže a mistrovství odborných dovedností CzechSkills jsou pořádány společně s cechy\, profesními organizacemi\, odbornými školami a zaměstnavateli. Smyslem je zviditelnit\, zpopularizovat a přinést respekt kvalifikované práci\, propagovat prestiž a perspektivu odborníků nejen v technických a řemeslných profesí. CzechSkills přibližují profesní dovednosti mladým\, zapojují je do odborné praxe a umožňují jim sdílet zkušenosti.
URL:https://kbudoucnosti.cz/akce/czechskills-2026/
LOCATION:Výstaviště Brno
END:VEVENT
END:VCALENDAR